BEGIN:VCALENDAR
VERSION:2.0
PRODID:-//Stéphane Glacier
CALSCALE:GREGORIAN
METHOD:PUBLISH
X-WR-CALNAME:Stéphane Glacier
X-ORIGINAL-URL:https://stephaneglacier.com/produit/entremets-et-petits-gateaux-par-aurelien-trottier/
X-WR-CALDESC:« ENTREMETS ET PETITS GATEAUX » par Aurélien Trottier
BEGIN:VEVENT
DTSTART:20250324T090000
DTEND:20250326T120000
SUMMARY:« ENTREMETS ET PETITS GATEAUX » par Aurélien Trottier
DESCRIPTION:
LOCATION:20 Rue Rouget de L'Isle,<br>92700 Colombes, France
END:VEVENT
END:VCALENDAR
