BEGIN:VCALENDAR
VERSION:2.0
PRODID:-//Stéphane Glacier
CALSCALE:GREGORIAN
METHOD:PUBLISH
X-WR-CALNAME:Stéphane Glacier
X-ORIGINAL-URL:https://stephaneglacier.com/produit/cakes-ga%cc%82teaux-de-voyage-gourmandises-ventes-additionnelles-par-stephane-glacier/
X-WR-CALDESC:« Cakes, gâteaux de voyage, gourmandises, ventes additionnelles »&lt;br&gt;par Stéphane Glacier&lt;br&gt;&lt;br&gt;&lt;img src=&quot;https://stephaneglacier.com/wp-content/uploads/2020/11/sgla.png&quot;/&gt;
BEGIN:VEVENT
DTSTART:20210427T090000
DTEND:20210429T120000
SUMMARY:« Cakes, gâteaux de voyage, gourmandises, ventes additionnelles »&lt;br&gt;par Stéphane Glacier&lt;br&gt;&lt;br&gt;&lt;img src=&quot;https://stephaneglacier.com/wp-content/uploads/2020/11/sgla.png&quot;/&gt;
DESCRIPTION:
LOCATION:20 Rue Rouget de L'Isle,<br>92700 Colombes, France
END:VEVENT
END:VCALENDAR
