BEGIN:VCALENDAR
VERSION:2.0
PRODID:-//Stéphane Glacier
CALSCALE:GREGORIAN
METHOD:PUBLISH
X-WR-CALNAME:Stéphane Glacier
X-ORIGINAL-URL:https://stephaneglacier.com/produit/glaces-toute-lannee-par-alain-chartier/
X-WR-CALDESC:« Glaces toute l’année »&lt;br&gt;par Alain Chartier&lt;br&gt;&lt;br&gt;&lt;img src=&quot;https://stephaneglacier.com/wp-content/uploads/2020/11/alchart.png&quot;/&gt;
BEGIN:VEVENT
DTSTART:20210420T090000
DTEND:20210422T120000
SUMMARY:« Glaces toute l’année »&lt;br&gt;par Alain Chartier&lt;br&gt;&lt;br&gt;&lt;img src=&quot;https://stephaneglacier.com/wp-content/uploads/2020/11/alchart.png&quot;/&gt;
DESCRIPTION:
LOCATION:20 Rue Rouget de L'Isle,<br>92700 Colombes, France
END:VEVENT
END:VCALENDAR
